Workbook

Sheet 1ОиДинфоб (2)
A1: № п/п | B1: Муниципальное образование | C1: Наименование образовательной организации | D1: Показатель 1.1 | J1: Показатель 1.2 | M1: Показатель 1.3 | S1: Итого по критерию:
D2: 1.1.1. Объем информации, размещенной на информационных стендах в помещении организации | F2: 1.1.2. Объем информации, размещенной на официальном сайте организации | H2: Значение показателя 1.1 | I2: Значение показателя 1.1 с учетом значимости | J2: Количество функционирующих дистанционных способов взаимодействия | K2: Значение показателя 1.2 | L2: Значение показателя 1.2 с учетом значимости | M2: Число получателей услуг, удовлетворенных качеством, полнотой и доступностью информации о деятельности организации, размещенной на стендах организации | N2: Число опрошенных получателей услуг, ответивших на соответствующий вопрос анкеты | O2: Число получателей услуг, удовлетворенных качеством, полнотой и доступностью информации о деятельности организации, размещенной на сайте организации | P2: Число опрошенных получателей услуг, ответивших на соответствующий вопрос анкеты | Q2: Значение показателя 1.3 | R2: Значение показателя 1 .3 с учетом веса
H4: 100 | I4: 30 | K4: 100 | L4: 30 | Q4: 100 | R4: 40 | S4: =I4+L4+R4 -> 100
A5: 9 | B5: Курьинский район | C5: МБОУДОД «Детско-юношеская спортивная школа» | D5: 6 | E5: 9 | F5: 21.5 | G5: 33 | H5: 66.5 | I5: =H5*0.3 -> 19.95 | J5: 4 | K5: =IF(J5<=3,J5*30,100) -> 100 | L5: =K5*0.3 -> 30 | M5: 146 | N5: 147 | O5: 138 | P5: 139 | Q5: =0.5*(M5/N5+O5/P5)*100 -> 99.300152 | R5: =Q5*0.4 -> 39.720061 | S5: =I5+L5+R5 -> 89.670061

Sheet 1ОиДинфоб
A1: № п/п | B1: Муниципальное образование | C1: Наименование образовательной организации | D1: Показатель 1.1 | H1: Показатель 1.2 | K1: Показатель 1.3 | Q1: Итого по критерию:
D2: 1.1.1. Объем информации, размещенной на информационных стендах в помещении организации | E2: 1.1.2. Объем информации, размещенной на официальном сайте организации | F2: Значение показателя 1.1 | G2: Значение показателя 1.1 с учетом значимости | H2: Количество функционирующих дистанционных способов взаимодействия | I2: Значение показателя 1.2 | J2: Значение показателя 1.2 с учетом значимости | K2: 1.3.1 Число получателей услуг, удовлетворенных качеством, полнотой и доступностью информации о деятельности организации, размещенной на стендах организации | L2: 1.3.1 Число опрошенных получателей услуг, ответивших на соответствующий вопрос анкеты | M2: Число получателей услуг, удовлетворенных качеством, полнотой и доступностью информации о деятельности организации, размещенной на сайте организации | N2: Число опрошенных получателей услуг, ответивших на соответствующий вопрос анкеты | O2: Значение показателя 1.3 | P2: Значение показателя 1 .3 с учетом веса
F4: 100 | G4: 30 | I4: 100 | J4: 30 | O4: 100 | P4: 40 | Q4: =G4+J4+P4 -> 100
A5: 9 | B5: Курьинский район | C5: МБУ ДО «Курьинская детско-юношеская спортивная школа» | D5: 6 | E5: 21.5 | F5: 66.5 | G5: 20 | H5: 4 | I5: 100 | J5: 30 | K5: 146 | L5: 147 | M5: 138 | N5: 139 | O5: 99.300152 | P5: 39.720061 | Q5: 89.7

Sheet 2КомфУслНал
A1: № п/п | B1: Муниципальное образование | C1: Наименование образовательной организации | D1: Наличие в образовательных организациях комфортных условий для предоставления услуг
D2: Наличие комфортной зоны отдыха (ожидания) оборудованной соответствующей мебелью | E2: Наличие и понятность навигации внутри организации | F2: Наличие и доступность питьевой воды | G2: Наличие и доступность санитарно-гигиенических помещений | H2: Санитарное состояние помещений организации | I2: Транспортная доступность (доступность общественного транспорта и наличие парковки) | J2: Доступность записи на получение услуги (по телефону, с использованием сети «Интернет» на официальном сайте ор | K2: Итого:
A3: 9 | B3: Курьинский район | C3: МБУ ДО «Детско-юношеская спортивная школа» | D3: 1 | E3: 1 | F3: 1 | G3: 1 | H3: 1 | I3: 1 | J3: 1 | K3: =SUM(D3:J3) -> 7

Sheet 2КомУслОц
A1: № п/п | B1: Муниципальное образование | C1: Наименование образовательной организации | D1: Показатель 2 Обеспечение в организации социальной сферы комфортных условий для предоставления услуг
D2: 2.1.1. Наличие комфортных условий для предоставления услуг | G2: Показатель 2.3 Доля получателей услуг, удовлетворенных комфортностью условий предоставления услуг | K2: Итого по критерию:
D3: Количество комфортных условий для предоставления услуг | E3: Значение показателя 2.1.1 | F3: Значение показателя с учетом значимости | G3: Число получателей услуг, удовлетворенных комфортностью предоставления услуг организацией образования | H3: Число получателей услуг, опрошенных по данному вопросу | I3: Значение показателя 2.3 | J3: Значение показателя 2.3 с учетом значимости
E4: 100 | F4: 50 | I4: 100 | J4: =I4*0.5 -> 50 | K4: =F4+J4 -> 100
A5: 9 | B5: Курьинский район | C5: МБУ ДО «Детско-юношеская спортивная школа» | D5: 7 | E5: =IF(D5<=4,D5*20,100) -> 100 | F5: 50 | G5: 153 | H5: 156 | I5: =G5/H5*100 -> 98.076923 | J5: =I5*0.5 -> 49.038462 | K5: =F5+J5 -> 99.038462

Sheet 3УслДостИнвНал
A1: № п/п | B1: Муниципальное образование | C1: Наименование образовательной организации | D1: Оборудование территории, прилегающей к организации, и ее помещений с учетом доступности для инвалидов: | J1: Обеспечение в организации условий доступности, позволяющих инвалидам получать услуги наравне с другими, включая: | Q1: Значение показателя с учетом значимости | R1: Итого:
D2: Оборудование входных групп пандусами/подъемными платформами; | E2: Наличие выделенных стоянок для автотранспортных средств инвалидов; | F2: Наличие адаптированных лифтов, поручней, расширенных дверных проемов; | G2: Наличие сменных кресел-колясок; | H2: Наличие специально оборудованных санитарно-гигиенических помещений в организации | I2: Количество условий | J2: Дублирование для инвалидов по слуху и зрению звуковой и зрительной информации | K2: Дублирование надписей, знаков и иной текстовой и графической информации знаками, выполненными рельефно-точечным шрифтом Брайля | L2: Возможность предоставления инвалидам по слуху (слуху и зрению) услуг сурдопереводчика (тифлосурдопереводчика) | M2: Наличие альтернативной версии официального сайта организации социальной сферы в сети «Интернет» для инвалидов по зрению | N2: Помощь, оказываемая работниками организации, прошедшими необходимое обучение (инструктирование), по сопровождению инвалидов в помещении | O2: Наличие возможности предоставления услуги в дистанционном режиме или на дому | P2: Количество условий
A3: 9 | B3: Курьинский район | C3: МБУ ДО «Детско-юношеская спортивная школа» | D3: 1 | E3: 1 | F3: 1 | G3: 0 | H3: 1 | I3: =SUM(D3:H3) -> 4 | J3: 0 | K3: 0 | L3: 0 | M3: 1 | N3: 1 | O3: 0 | P3: =SUM(J3:O3) -> 2 | Q3: =M3+N3+O3 -> 2 | R3: =Q3*30 -> 60

Sheet 3УслДостИнвОц
A1: № п/п | B1: Муниципальное образование | C1: Наименование образовательной организации | D1: Показатель 3.1 | G1: Показатель 3.2 | J1: Показатель 3.3
D2: Количество условий доступности образовательной организации для инвалидов | E2: Значение показателя 3.1 | F2: Значение показателя 3.1 с учетом значимости | G2: Количество условий доступности, позволяющих инвалидам получать услуги наравне с другими | H2: Значение показателя 3.2 | I2: Значение показателя 3.2 с учетом значимости | J2: Число получателей услуг-инвалидов, удовлетворенных доступностью услуг | K2: Число получателей услуг-инвалидов, опрошенных по данному вопросу | L2: Значение показателя 3.3 | M2: Значение показателя 3.3 с учетом значимости | N2: Итого по критерию:
E3: 100 | F3: =E3*0.3 -> 30 | H3: 100 | I3: =H3*0.4 -> 40 | L3: 100 | M3: =L3*0.3 -> 30 | N3: =F3+I3+M3 -> 100
A4: 9 | B4: Курьинский район | C4: МБУ ДО «Детско-юношеская спортивная школа» | D4: 4 | E4: =IF(D4<=4,D4*20,100) -> 80 | F4: =E4*0.3 -> 24 | G4: 2 | H4: 40 | I4: =H4*0.4 -> 16 | J4: 4 | K4: 4 | L4: =J4/K4*100 -> 100 | M4: =L4*0.3 -> 30 | N4: =F4+I4+M4 -> 70 | O4: =J4-K4 -> 0
O5: =COUNTIF(O4:O4, "<"&0) -> 0

Sheet 4ДобрВежл
A1: № п/п | B1: Муниципальное образование | C1: Наименование образовательной организации | D1: Показатель 4.1 Доля получателей услуг, удовлетворенных доброжелательностью, вежливостью работников организации социальной сферы | H1: Показатель 4.2 Доля получателей услуг, удовлетворенных доброжелательностью, вежливостью работников организации социальной сферы, обеспечивающих непосредственное оказание услуги | L1: Показатель 4.3 Доля получателей услуг, удовлетворенных доброжелательностью, вежливостью работников организации социальной сферы при использовании дистанционных форм взаимодействия | P1: Итого по критерию:
D2: Число получателей услуг, удовлетворенных доброжелательностью, вежливостью работников организации социальной сферы, обеспечивающих первичный контакт и информирование получателя услуги | E2: Число опрошенных получателей услуг, ответивших на соответствующий вопрос анкеты | F2: Значение показателя 4.1 | G2: Значение показателя 4.1 с учетом значимости | H2: Число получателей услуг, удовлетворенных доброжелательностью, вежливостью работников организации социальной сферы, обеспечивающих непосредственное оказание услуги | I2: Число опрошенных получателей услуг, ответивших на соответствующий вопрос анкеты | J2: Значение показателя 4.2 | K2: Значение показателя 4.2 с учетом значимости | L2: Число получателей услуг, удовлетворенных доброжелательностью, вежливостью работников организации социальной сферы при использовании дистанционных форм взаимодействия | M2: Число опрошенных получателей услуг, ответивших на соответствующий вопрос анкеты | N2: Значение показателя 4.3 | O2: Значение показателя 4.3 с учетом значимости
F3: 100 | G3: =F3*0.4 -> 40 | J3: 100 | K3: =J3*0.4 -> 40 | N3: 100 | O3: =N3*0.2 -> 20 | P3: =G3+K3+O3 -> 100
A4: 9 | B4: Курьинский район | C4: МБУ ДО «Детско-юношеская спортивная школа» | D4: 155 | E4: 156 | F4: 99.1 | G4: =F4*0.4 -> 39.64 | H4: 155 | I4: 156 | J4: 99.1 | K4: =J4*0.4 -> 39.64 | L4: 155 | M4: 156 | N4: 99.1 | O4: =N4*0.2 -> 19.82 | P4: =G4+K4+O4 -> 99.1

Sheet 5УдовлУсл
A1: № п/п | B1: Муниципальное образование | C1: Наименование образовательной организации | D1: Показатель 5.1 Доля получателей услуг, которые готовы рекомендовать организацию социальной сферы родственникам и знакомым | H1: Показатель 5.2 Доля получателей услуг, удовлетворенных организационными условиями предоставления услуг | L1: Показатель 5.3 Доля получателей услуг, удовлетворенных в целом условиями оказания услуг в организации | P1: Итого по критерию:
D2: Число получателей услуг, которые готовы рекомендовать организацию родственникам и знакомым | E2: Число опрошенных получателей услуг, ответивших на соответствующий вопрос анкеты | F2: Значение показателя 5.1 | G2: Значение показателя 5.1 с учетом значимости | H2: Число получателей услуг, удовлетворенных организационными условиями предоставления услуг | I2: Число опрошенных получателей услуг, ответивших на соответствующий вопрос анкеты | J2: Значение показателя 5.2 | K2: Значение показателя 5.2 с учетом значимости | L2: Число получателей услуг, удовлетворенных в целом условиями оказания услуг в организации социальной сферы | M2: Число опрошенных получателей услуг, ответивших на соответствующий вопрос анкеты | N2: Значение показателя 5.3 | O2: Значение показателя 5.3 с учетом значимости
F3: 100 | G3: =F3*0.3 -> 30 | J3: 100 | K3: =J3*0.2 -> 20 | N3: 100 | O3: =N3*0.5 -> 50 | P3: =G3+K3+O3 -> 100
A4: 9 | B4: Курьинский район | C4: МБУ ДО «Детско-юношеская спортивная школа» | D4: 154 | E4: 156 | F4: 98.9 | G4: =F4*0.3 -> 29.67 | H4: 154 | I4: 156 | J4: 98.9 | K4: =J4*0.2 -> 19.78 | L4: 154 | M4: 156 | N4: 98.9 | O4: =N4*0.5 -> 49.45 | P4: =G4+K4+O4 -> 98.9

Sheet Интегр
A1: Место в рейтинге | B1: Муниципальное образование | C1: Наименование образовательной организации | D1: Интегральное значение показателя | E1: 1 - Показатели, характеризующие откртость и доступность информации об организации | I1: 2 - Показатели, характеризующие комфортность условий предоставления услуг | L1: 3 - Показатели, характеризующие доступность услуг для инвалидов | P1: 4 - Показатели, характеризующие доброжелательность, вежливость работников организации | T1: 5 - Показатели, характеризующие удовлетворенность условиями оказания услуг
E2: 1.1 | F2: 1.2 | G2: 1.3 | H2: К1 | I2: 2.1 | J2: 2.3 | K2: К2 | L2: 3.1 | M2: 3.2 | N2: 3.3 | O2: К3 | P2: 4.1 | Q2: 4.2 | R2: 4.3 | S2: К4 | T2: 5.1 | U2: 5.2 | V2: 5.3 | W2: К5
E3: 30 | F3: 30 | G3: 40 | H3: 100 | I3: 50 | J3: 50 | K3: 100 | L3: 30 | M3: 40 | N3: 30 | O3: 100 | P3: 40 | Q3: 40 | R3: 20 | S3: 100 | T3: 30 | U3: 20 | V3: 50 | W3: 100
A4: 1 | B4: Бийский район | C4: МБУДО «Детско-юношеская спортивная школа» Бийского района | D4: =AVERAGE(H4,K4,O4,S4,W4) -> #REF! | E4: ='1ОиДинфоб'!#REF! -> #REF! | F4: ='1ОиДинфоб'!#REF! -> #REF! | G4: ='1ОиДинфоб'!#REF! -> #REF! | H4: =E4+F4+G4 -> #REF! | I4: ='2КомУслОц'!#REF! -> #REF! | J4: ='2КомУслОц'!#REF! -> #REF! | K4: =I4+J4 -> #REF! | L4: ='3УслДостИнвОц'!#REF! -> #REF! | M4: ='3УслДостИнвОц'!#REF! -> #REF! | N4: ='3УслДостИнвОц'!#REF! -> #REF! | O4: =L4+M4+N4 -> #REF! | P4: ='4ДобрВежл'!#REF! -> #REF! | Q4: ='4ДобрВежл'!#REF! -> #REF! | R4: ='4ДобрВежл'!#REF! -> #REF! | S4: =SUM(P4:R4) -> #REF! | T4: ='5УдовлУсл'!#REF! -> #REF! | U4: ='5УдовлУсл'!#REF! -> #REF! | V4: ='5УдовлУсл'!#REF! -> #REF! | W4: =SUM(T4:V4) -> #REF!
A5: 2 | B5: Курьинский район | C5: МБОУДОД «Детско-юношеская спортивная школа» | D5: =AVERAGE(H5,K5,O5,S5,W5) -> 91.351704 | E5: ='1ОиДинфоб'!G5 -> 20 | F5: ='1ОиДинфоб'!J5 -> 30 | G5: ='1ОиДинфоб'!P5 -> 39.720061 | H5: =E5+F5+G5 -> 89.720061 | I5: ='2КомУслОц'!F5 -> 50 | J5: ='2КомУслОц'!J5 -> 49.038462 | K5: =I5+J5 -> 99.038462 | L5: ='3УслДостИнвОц'!F4 -> 24 | M5: ='3УслДостИнвОц'!I4 -> 16 | N5: ='3УслДостИнвОц'!M4 -> 30 | O5: =L5+M5+N5 -> 70 | P5: ='4ДобрВежл'!G4 -> 39.64 | Q5: ='4ДобрВежл'!K4 -> 39.64 | R5: ='4ДобрВежл'!O4 -> 19.82 | S5: =SUM(P5:R5) -> 99.1 | T5: ='5УдовлУсл'!G4 -> 29.67 | U5: ='5УдовлУсл'!K4 -> 19.78 | V5: ='5УдовлУсл'!O4 -> 49.45 | W5: =SUM(T5:V5) -> 98.9
A6: 3 | B6: Родинский район | C6: МБУДО «Детско-юношеская спортивная школа» | D6: =AVERAGE(H6,K6,O6,S6,W6) -> #REF! | E6: ='1ОиДинфоб'!#REF! -> #REF! | F6: ='1ОиДинфоб'!#REF! -> #REF! | G6: ='1ОиДинфоб'!#REF! -> #REF! | H6: =E6+F6+G6 -> #REF! | I6: ='2КомУслОц'!#REF! -> #REF! | J6: ='2КомУслОц'!#REF! -> #REF! | K6: =I6+J6 -> #REF! | L6: ='3УслДостИнвОц'!#REF! -> #REF! | M6: ='3УслДостИнвОц'!#REF! -> #REF! | N6: ='3УслДостИнвОц'!#REF! -> #REF! | O6: =L6+M6+N6 -> #REF! | P6: ='4ДобрВежл'!#REF! -> #REF! | Q6: ='4ДобрВежл'!#REF! -> #REF! | R6: ='4ДобрВежл'!#REF! -> #REF! | S6: =SUM(P6:R6) -> #REF! | T6: ='5УдовлУсл'!#REF! -> #REF! | U6: ='5УдовлУсл'!#REF! -> #REF! | V6: ='5УдовлУсл'!#REF! -> #REF! | W6: =SUM(T6:V6) -> #REF!
A7: 4 | B7: Немецкий район | C7: МБУДО «Детско-юношеская спортивная школа» | D7: =AVERAGE(H7,K7,O7,S7,W7) -> #REF! | E7: ='1ОиДинфоб'!#REF! -> #REF! | F7: ='1ОиДинфоб'!#REF! -> #REF! | G7: ='1ОиДинфоб'!#REF! -> #REF! | H7: =E7+F7+G7 -> #REF! | I7: ='2КомУслОц'!#REF! -> #REF! | J7: ='2КомУслОц'!#REF! -> #REF! | K7: =I7+J7 -> #REF! | L7: ='3УслДостИнвОц'!#REF! -> #REF! | M7: ='3УслДостИнвОц'!#REF! -> #REF! | N7: ='3УслДостИнвОц'!#REF! -> #REF! | O7: =L7+M7+N7 -> #REF! | P7: ='4ДобрВежл'!#REF! -> #REF! | Q7: ='4ДобрВежл'!#REF! -> #REF! | R7: ='4ДобрВежл'!#REF! -> #REF! | S7: =SUM(P7:R7) -> #REF! | T7: ='5УдовлУсл'!#REF! -> #REF! | U7: ='5УдовлУсл'!#REF! -> #REF! | V7: ='5УдовлУсл'!#REF! -> #REF! | W7: =SUM(T7:V7) -> #REF!
A8: 5 | B8: Завьяловский район | C8: МКООДОД «Детско-юношеская спортивная школа Алтайского края Завьяловского района | D8: =AVERAGE(H8,K8,O8,S8,W8) -> #REF! | E8: ='1ОиДинфоб'!#REF! -> #REF! | F8: ='1ОиДинфоб'!#REF! -> #REF! | G8: ='1ОиДинфоб'!#REF! -> #REF! | H8: =E8+F8+G8 -> #REF! | I8: ='2КомУслОц'!#REF! -> #REF! | J8: ='2КомУслОц'!#REF! -> #REF! | K8: =I8+J8 -> #REF! | L8: ='3УслДостИнвОц'!#REF! -> #REF! | M8: ='3УслДостИнвОц'!#REF! -> #REF! | N8: ='3УслДостИнвОц'!#REF! -> #REF! | O8: =L8+M8+N8 -> #REF! | P8: ='4ДобрВежл'!#REF! -> #REF! | Q8: ='4ДобрВежл'!#REF! -> #REF! | R8: ='4ДобрВежл'!#REF! -> #REF! | S8: =SUM(P8:R8) -> #REF! | T8: ='5УдовлУсл'!#REF! -> #REF! | U8: ='5УдовлУсл'!#REF! -> #REF! | V8: ='5УдовлУсл'!#REF! -> #REF! | W8: =SUM(T8:V8) -> #REF!
A9: 6 | B9: Ключевский район | C9: МБУДО Детско-юношеская спортивная школа «Юность» Ключевского района | D9: =AVERAGE(H9,K9,O9,S9,W9) -> #REF! | E9: ='1ОиДинфоб'!#REF! -> #REF! | F9: ='1ОиДинфоб'!#REF! -> #REF! | G9: ='1ОиДинфоб'!#REF! -> #REF! | H9: =E9+F9+G9 -> #REF! | I9: ='2КомУслОц'!#REF! -> #REF! | J9: ='2КомУслОц'!#REF! -> #REF! | K9: =I9+J9 -> #REF! | L9: ='3УслДостИнвОц'!#REF! -> #REF! | M9: ='3УслДостИнвОц'!#REF! -> #REF! | N9: ='3УслДостИнвОц'!#REF! -> #REF! | O9: =L9+M9+N9 -> #REF! | P9: ='4ДобрВежл'!#REF! -> #REF! | Q9: ='4ДобрВежл'!#REF! -> #REF! | R9: ='4ДобрВежл'!#REF! -> #REF! | S9: =SUM(P9:R9) -> #REF! | T9: ='5УдовлУсл'!#REF! -> #REF! | U9: ='5УдовлУсл'!#REF! -> #REF! | V9: ='5УдовлУсл'!#REF! -> #REF! | W9: =SUM(T9:V9) -> #REF!
A10: 7 | B10: Хабарский район | C10: МБУДО «Детско-юношеская спортивная школа» Хабарского района | D10: =AVERAGE(H10,K10,O10,S10,W10) -> #REF! | E10: ='1ОиДинфоб'!#REF! -> #REF! | F10: ='1ОиДинфоб'!#REF! -> #REF! | G10: ='1ОиДинфоб'!#REF! -> #REF! | H10: =E10+F10+G10 -> #REF! | I10: ='2КомУслОц'!#REF! -> #REF! | J10: ='2КомУслОц'!#REF! -> #REF! | K10: =I10+J10 -> #REF! | L10: ='3УслДостИнвОц'!#REF! -> #REF! | M10: ='3УслДостИнвОц'!#REF! -> #REF! | N10: ='3УслДостИнвОц'!#REF! -> #REF! | O10: =L10+M10+N10 -> #REF! | P10: ='4ДобрВежл'!#REF! -> #REF! | Q10: ='4ДобрВежл'!#REF! -> #REF! | R10: ='4ДобрВежл'!#REF! -> #REF! | S10: =SUM(P10:R10) -> #REF! | T10: ='5УдовлУсл'!#REF! -> #REF! | U10: ='5УдовлУсл'!#REF! -> #REF! | V10: ='5УдовлУсл'!#REF! -> #REF! | W10: =SUM(T10:V10) -> #REF!
A11: 8 | B11: Троицкий район | C11: МБУДО «Троицкая детско-юношеская спортивная школа» Троицкого района | D11: =AVERAGE(H11,K11,O11,S11,W11) -> #REF! | E11: ='1ОиДинфоб'!#REF! -> #REF! | F11: ='1ОиДинфоб'!#REF! -> #REF! | G11: ='1ОиДинфоб'!#REF! -> #REF! | H11: =E11+F11+G11 -> #REF! | I11: ='2КомУслОц'!#REF! -> #REF! | J11: ='2КомУслОц'!#REF! -> #REF! | K11: =I11+J11 -> #REF! | L11: ='3УслДостИнвОц'!#REF! -> #REF! | M11: ='3УслДостИнвОц'!#REF! -> #REF! | N11: ='3УслДостИнвОц'!#REF! -> #REF! | O11: =L11+M11+N11 -> #REF! | P11: ='4ДобрВежл'!#REF! -> #REF! | Q11: ='4ДобрВежл'!#REF! -> #REF! | R11: ='4ДобрВежл'!#REF! -> #REF! | S11: =SUM(P11:R11) -> #REF! | T11: ='5УдовлУсл'!#REF! -> #REF! | U11: ='5УдовлУсл'!#REF! -> #REF! | V11: ='5УдовлУсл'!#REF! -> #REF! | W11: =SUM(T11:V11) -> #REF!
A12: 9 | B12: Волчихинский район | C12: МКУДО «Волчихинская Детско-юношеская спортивная школа» | D12: =AVERAGE(H12,K12,O12,S12,W12) -> #REF! | E12: ='1ОиДинфоб'!#REF! -> #REF! | F12: ='1ОиДинфоб'!#REF! -> #REF! | G12: ='1ОиДинфоб'!#REF! -> #REF! | H12: =E12+F12+G12 -> #REF! | I12: ='2КомУслОц'!#REF! -> #REF! | J12: ='2КомУслОц'!#REF! -> #REF! | K12: =I12+J12 -> #REF! | L12: ='3УслДостИнвОц'!#REF! -> #REF! | M12: ='3УслДостИнвОц'!#REF! -> #REF! | N12: ='3УслДостИнвОц'!#REF! -> #REF! | O12: =L12+M12+N12 -> #REF! | P12: ='4ДобрВежл'!#REF! -> #REF! | Q12: ='4ДобрВежл'!#REF! -> #REF! | R12: ='4ДобрВежл'!#REF! -> #REF! | S12: =SUM(P12:R12) -> #REF! | T12: ='5УдовлУсл'!#REF! -> #REF! | U12: ='5УдовлУсл'!#REF! -> #REF! | V12: ='5УдовлУсл'!#REF! -> #REF! | W12: =SUM(T12:V12) -> #REF!
A13: 10 | B13: Калманский район | C13: МБУДО «Калманская районная детско-юношеская спортивная школа» | D13: =AVERAGE(H13,K13,O13,S13,W13) -> #REF! | E13: ='1ОиДинфоб'!#REF! -> #REF! | F13: ='1ОиДинфоб'!#REF! -> #REF! | G13: ='1ОиДинфоб'!#REF! -> #REF! | H13: =E13+F13+G13 -> #REF! | I13: ='2КомУслОц'!#REF! -> #REF! | J13: ='2КомУслОц'!#REF! -> #REF! | K13: =I13+J13 -> #REF! | L13: ='3УслДостИнвОц'!#REF! -> #REF! | M13: ='3УслДостИнвОц'!#REF! -> #REF! | N13: ='3УслДостИнвОц'!#REF! -> #REF! | O13: =L13+M13+N13 -> #REF! | P13: ='4ДобрВежл'!#REF! -> #REF! | Q13: ='4ДобрВежл'!#REF! -> #REF! | R13: ='4ДобрВежл'!#REF! -> #REF! | S13: =SUM(P13:R13) -> #REF! | T13: ='5УдовлУсл'!#REF! -> #REF! | U13: ='5УдовлУсл'!#REF! -> #REF! | V13: ='5УдовлУсл'!#REF! -> #REF! | W13: =SUM(T13:V13) -> #REF!
A14: 11 | B14: Баевский район | C14: МКОУДОД «Детско-юношеская спортивная школа» Баевского района | D14: =AVERAGE(H14,K14,O14,S14,W14) -> #REF! | E14: ='1ОиДинфоб'!#REF! -> #REF! | F14: ='1ОиДинфоб'!#REF! -> #REF! | G14: ='1ОиДинфоб'!#REF! -> #REF! | H14: =E14+F14+G14 -> #REF! | I14: ='2КомУслОц'!#REF! -> #REF! | J14: ='2КомУслОц'!#REF! -> #REF! | K14: =I14+J14 -> #REF! | L14: ='3УслДостИнвОц'!#REF! -> #REF! | M14: ='3УслДостИнвОц'!#REF! -> #REF! | N14: ='3УслДостИнвОц'!#REF! -> #REF! | O14: =L14+M14+N14 -> #REF! | P14: ='4ДобрВежл'!#REF! -> #REF! | Q14: ='4ДобрВежл'!#REF! -> #REF! | R14: ='4ДобрВежл'!#REF! -> #REF! | S14: =SUM(P14:R14) -> #REF! | T14: ='5УдовлУсл'!#REF! -> #REF! | U14: ='5УдовлУсл'!#REF! -> #REF! | V14: ='5УдовлУсл'!#REF! -> #REF! | W14: =SUM(T14:V14) -> #REF!
B15: Шипуновский район | C15: МКУДО «Шипуновская детско-юношеская спортивная школа» | D15: =AVERAGE(H15,K15,O15,S15,W15) -> #REF! | E15: ='1ОиДинфоб'!#REF! -> #REF! | F15: ='1ОиДинфоб'!#REF! -> #REF! | G15: ='1ОиДинфоб'!#REF! -> #REF! | H15: =E15+F15+G15 -> #REF! | I15: ='2КомУслОц'!#REF! -> #REF! | J15: ='2КомУслОц'!#REF! -> #REF! | K15: =I15+J15 -> #REF! | L15: ='3УслДостИнвОц'!#REF! -> #REF! | M15: ='3УслДостИнвОц'!#REF! -> #REF! | N15: ='3УслДостИнвОц'!#REF! -> #REF! | O15: =L15+M15+N15 -> #REF! | P15: ='4ДобрВежл'!#REF! -> #REF! | Q15: ='4ДобрВежл'!#REF! -> #REF! | R15: ='4ДобрВежл'!#REF! -> #REF! | S15: =SUM(P15:R15) -> #REF! | T15: ='5УдовлУсл'!#REF! -> #REF! | U15: ='5УдовлУсл'!#REF! -> #REF! | V15: ='5УдовлУсл'!#REF! -> #REF! | W15: =SUM(T15:V15) -> #REF!
A16: 12 | B16: Красногорский район | C16: МКУДО «Детско-юношеская спортивная школа «Виктория» | D16: =AVERAGE(H16,K16,O16,S16,W16) -> #REF! | E16: ='1ОиДинфоб'!#REF! -> #REF! | F16: ='1ОиДинфоб'!#REF! -> #REF! | G16: ='1ОиДинфоб'!#REF! -> #REF! | H16: =E16+F16+G16 -> #REF! | I16: ='2КомУслОц'!#REF! -> #REF! | J16: ='2КомУслОц'!#REF! -> #REF! | K16: =I16+J16 -> #REF! | L16: ='3УслДостИнвОц'!#REF! -> #REF! | M16: ='3УслДостИнвОц'!#REF! -> #REF! | N16: ='3УслДостИнвОц'!#REF! -> #REF! | O16: =L16+M16+N16 -> #REF! | P16: ='4ДобрВежл'!#REF! -> #REF! | Q16: ='4ДобрВежл'!#REF! -> #REF! | R16: ='4ДобрВежл'!#REF! -> #REF! | S16: =SUM(P16:R16) -> #REF! | T16: ='5УдовлУсл'!#REF! -> #REF! | U16: ='5УдовлУсл'!#REF! -> #REF! | V16: ='5УдовлУсл'!#REF! -> #REF! | W16: =SUM(T16:V16) -> #REF!
A17: 13 | B17: Благовещенский район | C17: МКУДО «Благовещенская детско-юношеская спортивная школа» | D17: =AVERAGE(H17,K17,O17,S17,W17) -> #REF! | E17: ='1ОиДинфоб'!#REF! -> #REF! | F17: ='1ОиДинфоб'!#REF! -> #REF! | G17: ='1ОиДинфоб'!#REF! -> #REF! | H17: =E17+F17+G17 -> #REF! | I17: ='2КомУслОц'!#REF! -> #REF! | J17: ='2КомУслОц'!#REF! -> #REF! | K17: =I17+J17 -> #REF! | L17: ='3УслДостИнвОц'!#REF! -> #REF! | M17: ='3УслДостИнвОц'!#REF! -> #REF! | N17: ='3УслДостИнвОц'!#REF! -> #REF! | O17: =L17+M17+N17 -> #REF! | P17: ='4ДобрВежл'!#REF! -> #REF! | Q17: ='4ДобрВежл'!#REF! -> #REF! | R17: ='4ДобрВежл'!#REF! -> #REF! | S17: =SUM(P17:R17) -> #REF! | T17: ='5УдовлУсл'!#REF! -> #REF! | U17: ='5УдовлУсл'!#REF! -> #REF! | V17: ='5УдовлУсл'!#REF! -> #REF! | W17: =SUM(T17:V17) -> #REF!
A24: Место в рейтинге | B24: Муниципальное образование | C24: Наименование образовательной организации | D24: Интегральное значение показателя | E24: К1 | F24: К2 | G24: К3 | H24: К4 | I24: К5
A25: 1 | B25: Бийский район | C25: МБУДО «Детско-юношеская спортивная школа» Бийского района | D25: 94.580346 | E25: 78.563866 | F25: 98 | G25: 100 | H25: 99.029126 | I25: 97.308738
A26: 2 | B26: Курьинский район | C26: МБОУДОД «Детско-юношеская спортивная школа» | D26: 91.351704 | E26: 89.720061 | F26: 99.038462 | G26: 70 | H26: 99.1 | I26: 98.9
A27: 3 | B27: Родинский район | C27: МБУДО «Детско-юношеская спортивная школа» | D27: 90.889905 | E27: 92.809524 | F27: 100 | G27: 62 | H27: 99.64 | I27: 100
A28: 4 | B28: Немецкий район | C28: МБУДО «Детско-юношеская спортивная школа» | D28: 89.708718 | E28: 94.466667 | F28: 99.038462 | G28: 58 | H28: 99.038462 | I28: 98
A29: 5 | B29: Завьяловский район | C29: МКООДОД «Детско-юношеская спортивная школа Алтайского края Завьяловского района | D29: 89.305865 | E29: 92.657895 | F29: 99.52381 | G29: 56 | H29: 99.047619 | I29: 99.3
A30: 6 | B30: Ключевский район | C30: МБУДО Детско-юношеская спортивная школа «Юность» Ключевского района | D30: 89.10715 | E30: 84.583149 | F30: 98.972603 | G30: 64 | H30: 98.98 | I30: 99
A31: 7 | B31: Хабарский район | C31: МБУДО «Детско-юношеская спортивная школа» Хабарского района | D31: 86.092843 | E31: 87.278762 | F31: 99.545455 | G31: 46 | H31: 98.6 | I31: 99.04
A32: 8 | B32: Троицкий район | C32: МБУДО «Троицкая детско-юношеская спортивная школа» Троицкого района | D32: 84.988936 | E32: 89.14468 | F32: 99.5 | G32: 40 | H32: 97.8 | I32: 98.5
A33: 9 | B33: Волчихинский район | C33: МКУДО «Волчихинская Детско-юношеская спортивная школа» | D33: 84.71 | E33: 69.55 | F33: 100 | G33: 54 | H33: 100 | I33: 100
A34: 10 | B34: Калманский район | C34: МБУДО «Калманская районная детско-юношеская спортивная школа» | D34: 84.300239 | E34: 81.6659 | F34: 95 | G34: 54 | H34: 95.623529 | I34: 95.211765
A35: 11 | B35: Баевский район | C35: МКОУДОД «Детско-юношеская спортивная школа» Баевского района | D35: 83.302251 | E35: 87.811255 | F35: 98 | G35: 31.7 | H35: 99 | I35: 100
B36: Шипуновский район | C36: МКУДО «Шипуновская детско-юношеская спортивная школа» | D36: 83.28 | E36: 86.2 | F36: 96.5 | G36: 36 | H36: 98.6 | I36: 99.1
A37: 12 | B37: Красногорский район | C37: МКУДО «Детско-юношеская спортивная школа «Виктория» | D37: 81.76 | E37: 87.1 | F37: 93.5 | G37: 30 | H37: 98.8 | I37: 99.4
A38: 13 | B38: Благовещенский район | C38: МКУДО «Благовещенская детско-юношеская спортивная школа» | D38: 81.135382 | E38: 88.336909 | F38: 99.5 | G38: 18 | H38: 99.84 | I38: 100
A39: Среднее по отрасли | D39: =AVERAGE(D25:D38) -> 86.750953 | E39: =AVERAGE(E25:E38) -> 86.420619 | F39: =AVERAGE(F25:F38) -> 98.294199 | G39: =AVERAGE(G25:G38) -> 51.407143 | H39: =AVERAGE(H25:H38) -> 98.792767 | I39: =AVERAGE(I25:I38) -> 98.840036
